BEGIN:VCALENDAR
VERSION:2.0
PRODID:-//Mizrachi - ECPv6.3.3.1//NONSGML v1.0//EN
CALSCALE:GREGORIAN
METHOD:PUBLISH
X-ORIGINAL-URL:https://www.mizrachi.org.au
X-WR-CALDESC:Events for Mizrachi
REFRESH-INTERVAL;VALUE=DURATION:PT1H
X-Robots-Tag:noindex
X-PUBLISHED-TTL:PT1H
BEGIN:VTIMEZONE
TZID:Australia/Melbourne
BEGIN:STANDARD
TZOFFSETFROM:+1100
TZOFFSETTO:+1000
TZNAME:AEST
DTSTART:20230401T160000
END:STANDARD
BEGIN:DAYLIGHT
TZOFFSETFROM:+1000
TZOFFSETTO:+1100
TZNAME:AEDT
DTSTART:20230930T160000
END:DAYLIGHT
TZID:UTC
BEGIN:STANDARD
TZOFFSETFROM:+0000
TZOFFSETTO:+0000
TZNAME:UTC
DTSTART:20180101T000000
END:STANDARD
END:VTIMEZONE
BEGIN:VEVENT
DTSTART;VALUE=DATE:20230805
DTEND;VALUE=DATE:20230806
DTSTAMP:20260422T044332
CREATED:20230802T001359Z
LAST-MODIFIED:20230802T001359Z
UID:2347-1691193600-1691279999@www.mizrachi.org.au
SUMMARY:Shabbat Lunch
DESCRIPTION:Click Here To Book
URL:https://www.mizrachi.org.au/event/shabbat-lunch/
CATEGORIES:Upcoming events
ATTACH;FMTTYPE=image/jpeg:https://www.mizrachi.org.au/wp-content/uploads/ef258723-b435-4f56-8a6e-e4059d5fa302.jpg
END:VEVENT
BEGIN:VEVENT
DTSTART;TZID=UTC:20180519T203000
DTEND;TZID=UTC:20180519T203000
DTSTAMP:20260422T044332
CREATED:20180514T160925Z
LAST-MODIFIED:20180514T160925Z
UID:1266-1526761800-1526761800@www.mizrachi.org.au
SUMMARY:GEN 17: Does Our Community Have A Future?
DESCRIPTION:Hear From Our 3 Inspiring Panelists\nJeremy Dunkel: Jeremy is a Director of Taurus Capital. a family office consultancy specialising in philanthropy. He is also a Director of Education Heritage Foundation. the Australian JeiMsh Funders\, and the Moriah College Foundation.\nDanielle Lapin: Danielle is a passionate member of our community. She is a Bnei Akiva chavera of Shevet Hagvurah. She grew up in Sydney and attended Moriah College. \nDavid Solomon: David is an Australian educator\, scholar. translator and writer. Perhaps best known for his teaching in the area of Jewish Studies. Solomon has also made contributions in art and media. \nLocation: \nMizrachi Synagogue\n339 Old South Head Road
URL:https://www.mizrachi.org.au/event/gen-17-does-our-community-have-a-future/
CATEGORIES:Upcoming events
ATTACH;FMTTYPE=image/jpeg:https://www.mizrachi.org.au/wp-content/uploads/gen17.jpg
END:VEVENT
BEGIN:VEVENT
DTSTART;TZID=UTC:20180429T193000
DTEND;TZID=UTC:20180429T193000
DTSTAMP:20260422T044332
CREATED:20180411T021842Z
LAST-MODIFIED:20180411T021842Z
UID:1219-1525030200-1525030200@www.mizrachi.org.au
SUMMARY:In honour of Israel's 70th birthday
DESCRIPTION:In honour of Israel’s 70th birthday.A talk by Yosef Abramowitz: “FROM JEWISH WDUCATOR TO SOLAR PIONEER” The personal journey of Yosef Abramowitz 7:30pm Sunday April 29th Mizrachi Hall
URL:https://www.mizrachi.org.au/event/in-honour-of-israels-70th-birthday/
CATEGORIES:Upcoming events
ATTACH;FMTTYPE=image/jpeg:https://www.mizrachi.org.au/wp-content/uploads/22.jpg
END:VEVENT
BEGIN:VEVENT
DTSTART;TZID=UTC:20180412T200000
DTEND;TZID=UTC:20180412T200000
DTSTAMP:20260422T044332
CREATED:20180323T022051Z
LAST-MODIFIED:20180325T182438Z
UID:1197-1523563200-1523563200@www.mizrachi.org.au
SUMMARY:Yom Hashoah: Remember....
DESCRIPTION:Yom Hashoah: Remember… Never Forget Save The Date: Zichron Basalon ‘Memories at Home’ Thursday\, 12th April 8:00PM
URL:https://www.mizrachi.org.au/event/yom-hashoah-remember/
CATEGORIES:Upcoming events
ATTACH;FMTTYPE=image/jpeg:https://www.mizrachi.org.au/wp-content/uploads/zichron-basalon.jpg
END:VEVENT
BEGIN:VEVENT
DTSTART;TZID=UTC:20180327T200000
DTEND;TZID=UTC:20180327T210000
DTSTAMP:20260422T044332
CREATED:20180220T174559Z
LAST-MODIFIED:20180318T191335Z
UID:756-1522180800-1522184400@www.mizrachi.org.au
SUMMARY:Beit Midrash for Women
DESCRIPTION:We would like to invite you to join us on Tuesday nights (8-9 pm) for some torah learning in groups or one on one. No previous knowledge is necessary just bring yourself 🙂
URL:https://www.mizrachi.org.au/event/beit-midrash-for-women/
CATEGORIES:Upcoming events
ATTACH;FMTTYPE=image/jpeg:https://www.mizrachi.org.au/wp-content/uploads/2018/02/Beit-Midrash.jpg
END:VEVENT
END:VCALENDAR